BEGIN:VCALENDAR
VERSION:2.0
PRODID:-//StreamRadar//Match Calendar//EN
CALSCALE:GREGORIAN
METHOD:PUBLISH
X-WR-CALNAME:Tromsø vs HamKam
X-WR-TIMEZONE:America/New_York
BEGIN:VEVENT
UID:match-5506740@streamradar.soccer
SUMMARY:Tromsø vs HamKam
DTSTAMP:20260425T162200Z
DTSTART;TZID=America/New_York:20260920T110000
DTEND;TZID=America/New_York:20260920T130000
LOCATION:Romssa Arena
DESCRIPTION:Wo Sie Tromsø vs HamKam in Norwegen - Eliteserien sehen könne
 n. Live-Stream und TV-Programm.\nhttps://streamradar.soccer/de/match/550674
 0/tromso-vs-hamkam/
URL;VALUE=URI:https://streamradar.soccer/de/match/5506740/tromso-vs-hamkam/
STATUS:CONFIRMED
END:VEVENT
END:VCALENDAR
