BEGIN:VCALENDAR
VERSION:2.0
PRODID:-//StreamRadar//Match Calendar//EN
CALSCALE:GREGORIAN
METHOD:PUBLISH
X-WR-CALNAME:Fredrikstad vs Bodø / Glimt
X-WR-TIMEZONE:America/New_York
BEGIN:VEVENT
UID:match-5506721@streamradar.soccer
SUMMARY:Fredrikstad vs Bodø / Glimt
DTSTAMP:20260421T084145Z
DTSTART;TZID=America/New_York:20260906T110000
DTEND;TZID=America/New_York:20260906T130000
LOCATION:Fredrikstad Stadion
DESCRIPTION:Wo Sie Fredrikstad vs Bodø / Glimt in Norwegen - Eliteserien s
 ehen können. Live-Stream und TV-Programm.\nhttps://streamradar.soccer/de/m
 atch/5506721/fredrikstad-vs-bodo-glimt/
URL;VALUE=URI:https://streamradar.soccer/de/match/5506721/fredrikstad-vs-bo
 do-glimt/
STATUS:CONFIRMED
END:VEVENT
END:VCALENDAR
