BEGIN:VCALENDAR
VERSION:2.0
PRODID:-//StreamRadar//Match Calendar//EN
CALSCALE:GREGORIAN
METHOD:PUBLISH
X-WR-CALNAME:Galway United vs Bohemians
X-WR-TIMEZONE:America/New_York
BEGIN:VEVENT
UID:match-5506287@streamradar.soccer
SUMMARY:Galway United vs Bohemians
DTSTAMP:20260425T132755Z
DTSTART;TZID=America/New_York:20260911T144500
DTEND;TZID=America/New_York:20260911T164500
LOCATION:Eamonn Deacy Park
DESCRIPTION:Wo Sie Galway United vs Bohemians in Premier Division sehen kö
 nnen. Live-Stream und TV-Programm.\nhttps://streamradar.soccer/de/match/550
 6287/galway-united-vs-bohemians/
URL;VALUE=URI:https://streamradar.soccer/de/match/5506287/galway-united-vs-
 bohemians/
STATUS:CONFIRMED
END:VEVENT
END:VCALENDAR
