BEGIN:VCALENDAR
VERSION:2.0
PRODID:-//StreamRadar//Match Calendar//EN
CALSCALE:GREGORIAN
METHOD:PUBLISH
X-WR-CALNAME:AIK vs Västerås SK
X-WR-TIMEZONE:America/New_York
BEGIN:VEVENT
UID:match-5505848@streamradar.soccer
SUMMARY:AIK vs Västerås SK
DTSTAMP:20260421T084149Z
DTSTART;TZID=America/New_York:20260913T090000
DTEND;TZID=America/New_York:20260913T110000
LOCATION:Strawberry Arena
DESCRIPTION:Wo Sie AIK vs Västerås SK in Schweden - Allsvenskan sehen kö
 nnen. Live-Stream und TV-Programm.\nhttps://streamradar.soccer/de/match/550
 5848/aik-vs-vasteras-sk/
URL;VALUE=URI:https://streamradar.soccer/de/match/5505848/aik-vs-vasteras-s
 k/
STATUS:CONFIRMED
END:VEVENT
END:VCALENDAR
