BEGIN:VCALENDAR
VERSION:2.0
PRODID:-//StreamRadar//Match Calendar//EN
CALSCALE:GREGORIAN
METHOD:PUBLISH
X-WR-CALNAME:Indy Eleven vs Oakland Roots
X-WR-TIMEZONE:America/New_York
BEGIN:VEVENT
UID:match-5505617@streamradar.soccer
SUMMARY:Indy Eleven vs Oakland Roots
DTSTAMP:20260424T075102Z
DTSTART;TZID=America/New_York:20260920T170000
DTEND;TZID=America/New_York:20260920T190000
LOCATION:Michael A. Carroll Stadium
DESCRIPTION:Wo Sie Indy Eleven vs Oakland Roots in USL Championship sehen k
 önnen. Live-Stream und TV-Programm.\nhttps://streamradar.soccer/de/match/5
 505617/indy-eleven-vs-oakland-roots/
URL;VALUE=URI:https://streamradar.soccer/de/match/5505617/indy-eleven-vs-oa
 kland-roots/
STATUS:CONFIRMED
END:VEVENT
END:VCALENDAR
