BEGIN:VCALENDAR
VERSION:2.0
PRODID:-//StreamRadar//Match Calendar//EN
CALSCALE:GREGORIAN
METHOD:PUBLISH
X-WR-CALNAME:Colorado Rapids vs Seattle Sounders FC
X-WR-TIMEZONE:America/New_York
BEGIN:VEVENT
UID:match-5505186@streamradar.soccer
SUMMARY:Colorado Rapids vs Seattle Sounders FC
DTSTAMP:20260425T151100Z
DTSTART;TZID=America/New_York:20260919T213000
DTEND;TZID=America/New_York:20260919T233000
DESCRIPTION:Wo Sie Colorado Rapids vs Seattle Sounders FC in Fußball der M
 ajor League sehen können. Live-Stream und TV-Programm.\nhttps://streamrada
 r.soccer/de/match/5505186/colorado-rapids-vs-seattle-sounders-fc/
URL;VALUE=URI:https://streamradar.soccer/de/match/5505186/colorado-rapids-v
 s-seattle-sounders-fc/
STATUS:CONFIRMED
END:VEVENT
END:VCALENDAR
