BEGIN:VCALENDAR
VERSION:2.0
PRODID:-//StreamRadar//Match Calendar//EN
CALSCALE:GREGORIAN
METHOD:PUBLISH
X-WR-CALNAME:SJ Earthquakes vs Los Angeles FC
X-WR-TIMEZONE:America/New_York
BEGIN:VEVENT
UID:match-5505180@streamradar.soccer
SUMMARY:SJ Earthquakes vs Los Angeles FC
DTSTAMP:20260425T151059Z
DTSTART;TZID=America/New_York:20260919T193000
DTEND;TZID=America/New_York:20260919T213000
LOCATION:PayPal Park
DESCRIPTION:Wo Sie SJ Earthquakes vs Los Angeles FC in Fußball der Major L
 eague sehen können. Live-Stream und TV-Programm.\nhttps://streamradar.socc
 er/de/match/5505180/sj-earthquakes-vs-los-angeles-fc/
URL;VALUE=URI:https://streamradar.soccer/de/match/5505180/sj-earthquakes-vs
 -los-angeles-fc/
STATUS:CONFIRMED
END:VEVENT
END:VCALENDAR
