BEGIN:VCALENDAR
VERSION:2.0
PRODID:-//StreamRadar//Match Calendar//EN
CALSCALE:GREGORIAN
METHOD:PUBLISH
X-WR-CALNAME:New England vs Orlando City SC
X-WR-TIMEZONE:America/New_York
BEGIN:VEVENT
UID:match-5505179@streamradar.soccer
SUMMARY:New England vs Orlando City SC
DTSTAMP:20260422T082342Z
DTSTART;TZID=America/New_York:20260919T193000
DTEND;TZID=America/New_York:20260919T213000
LOCATION:Gillette Stadium
DESCRIPTION:Wo Sie New England vs Orlando City SC in Fußball der Major Lea
 gue sehen können. Live-Stream und TV-Programm.\nhttps://streamradar.soccer
 /de/match/5505179/new-england-vs-orlando-city-sc/
URL;VALUE=URI:https://streamradar.soccer/de/match/5505179/new-england-vs-or
 lando-city-sc/
STATUS:CONFIRMED
END:VEVENT
END:VCALENDAR
