BEGIN:VCALENDAR
VERSION:2.0
PRODID:-//StreamRadar//Match Calendar//EN
CALSCALE:GREGORIAN
METHOD:PUBLISH
X-WR-CALNAME:Real Salt Lake vs New York City
X-WR-TIMEZONE:America/New_York
BEGIN:VEVENT
UID:match-5505170@streamradar.soccer
SUMMARY:Real Salt Lake vs New York City
DTSTAMP:20260425T132809Z
DTSTART;TZID=America/New_York:20260912T213000
DTEND;TZID=America/New_York:20260912T233000
LOCATION:America First Field
DESCRIPTION:Wo Sie Real Salt Lake vs New York City in Fußball der Major Le
 ague sehen können. Live-Stream und TV-Programm.\nhttps://streamradar.socce
 r/de/match/5505170/real-salt-lake-vs-new-york-city/
URL;VALUE=URI:https://streamradar.soccer/de/match/5505170/real-salt-lake-vs
 -new-york-city/
STATUS:CONFIRMED
END:VEVENT
END:VCALENDAR
