BEGIN:VCALENDAR
VERSION:2.0
PRODID:-//StreamRadar//Match Calendar//EN
CALSCALE:GREGORIAN
METHOD:PUBLISH
X-WR-CALNAME:St. Louis City vs Minnesota United
X-WR-TIMEZONE:America/New_York
BEGIN:VEVENT
UID:match-5505168@streamradar.soccer
SUMMARY:St. Louis City vs Minnesota United
DTSTAMP:20260421T114530Z
DTSTART;TZID=America/New_York:20260912T203000
DTEND;TZID=America/New_York:20260912T223000
LOCATION:CITYPARK
DESCRIPTION:Wo Sie St. Louis City vs Minnesota United in Fußball der Major
  League sehen können. Live-Stream und TV-Programm.\nhttps://streamradar.so
 ccer/de/match/5505168/st-louis-city-vs-minnesota-united/
URL;VALUE=URI:https://streamradar.soccer/de/match/5505168/st-louis-city-vs-
 minnesota-united/
STATUS:CONFIRMED
END:VEVENT
END:VCALENDAR
