BEGIN:VCALENDAR
VERSION:2.0
PRODID:-//StreamRadar//Match Calendar//EN
CALSCALE:GREGORIAN
METHOD:PUBLISH
X-WR-CALNAME:Portland Timbers vs Minnesota United
X-WR-TIMEZONE:America/New_York
BEGIN:VEVENT
UID:match-5505144@streamradar.soccer
SUMMARY:Portland Timbers vs Minnesota United
DTSTAMP:20260422T005913Z
DTSTART;TZID=America/New_York:20260905T223000
DTEND;TZID=America/New_York:20260906T003000
LOCATION:Providence Park
DESCRIPTION:Wo Sie Portland Timbers vs Minnesota United in Fußball der Maj
 or League sehen können. Live-Stream und TV-Programm.\nhttps://streamradar.
 soccer/de/match/5505144/portland-timbers-vs-minnesota-united/
URL;VALUE=URI:https://streamradar.soccer/de/match/5505144/portland-timbers-
 vs-minnesota-united/
STATUS:CONFIRMED
END:VEVENT
END:VCALENDAR
