BEGIN:VCALENDAR
VERSION:2.0
PRODID:-//StreamRadar//Match Calendar//EN
CALSCALE:GREGORIAN
METHOD:PUBLISH
X-WR-CALNAME:Corinthians vs Fluminense
X-WR-TIMEZONE:America/New_York
BEGIN:VEVENT
UID:match-5504563@streamradar.soccer
SUMMARY:Corinthians vs Fluminense
DTSTAMP:20260425T162159Z
DTSTART;TZID=America/New_York:20260920T160000
DTEND;TZID=America/New_York:20260920T180000
LOCATION:Neo Quimica Arena
DESCRIPTION:Wo Sie Corinthians vs Fluminense in Brasilien - Brasileirão se
 hen können. Live-Stream und TV-Programm.\nhttps://streamradar.soccer/de/ma
 tch/5504563/corinthians-vs-fluminense/
URL;VALUE=URI:https://streamradar.soccer/de/match/5504563/corinthians-vs-fl
 uminense/
STATUS:CONFIRMED
END:VEVENT
END:VCALENDAR
