BEGIN:VCALENDAR
VERSION:2.0
PRODID:-//StreamRadar//Match Calendar//EN
CALSCALE:GREGORIAN
METHOD:PUBLISH
X-WR-CALNAME:VitÃ³ria vs GrÃªmio
X-WR-TIMEZONE:America/New_York
BEGIN:VEVENT
UID:match-5504550@streamradar.soccer
SUMMARY:VitÃ³ria vs GrÃªmio
DTSTAMP:20260421T104128Z
DTSTART;TZID=America/New_York:20260906T160000
DTEND;TZID=America/New_York:20260906T180000
LOCATION:Barradao
DESCRIPTION:Wo Sie VitÃ³ria vs GrÃªmio in Brasilien - BrasileirÃ£o sehen kÃ
 ¶nnen. Live-Stream und TV-Programm.\nhttps://streamradar.soccer/de/match/55
 04550/vitoria-vs-gremio/
URL;VALUE=URI:https://streamradar.soccer/de/match/5504550/vitoria-vs-gremio
 /
STATUS:CONFIRMED
END:VEVENT
END:VCALENDAR
