BEGIN:VCALENDAR
VERSION:2.0
PRODID:-//StreamRadar//Match Calendar//EN
CALSCALE:GREGORIAN
METHOD:PUBLISH
X-WR-CALNAME:Beti Kozkor vs Subiza
X-WR-TIMEZONE:America/New_York
BEGIN:VEVENT
UID:match-5422202@streamradar.soccer
SUMMARY:Beti Kozkor vs Subiza
DTSTAMP:20260421T080807Z
DTSTART;TZID=America/New_York:20260509T110000
DTEND;TZID=America/New_York:20260509T130000
LOCATION:Estadio Sotoburu (Subiza)
DESCRIPTION:Wo Sie Beti Kozkor vs Subiza in Spanien - Tercera Federación s
 ehen können. Live-Stream und TV-Programm.\nhttps://streamradar.soccer/de/m
 atch/5422202/beti-kozkor-vs-subiza/
URL;VALUE=URI:https://streamradar.soccer/de/match/5422202/beti-kozkor-vs-su
 biza/
STATUS:CONFIRMED
END:VEVENT
END:VCALENDAR
