BEGIN:VCALENDAR
VERSION:2.0
PRODID:-//StreamRadar//Match Calendar//EN
CALSCALE:GREGORIAN
METHOD:PUBLISH
X-WR-CALNAME:Karşıyaka vs Ayvalıkgücü
X-WR-TIMEZONE:America/New_York
BEGIN:VEVENT
UID:match-5620205@streamradar.soccer
SUMMARY:Karşıyaka vs Ayvalıkgücü
DTSTAMP:20260424T160201Z
DTSTART;TZID=America/New_York:20260428T130000
DTEND;TZID=America/New_York:20260428T150000
LOCATION:İzmir Atatürk Stadyumu (İzmir)
DESCRIPTION:Kde sledovat Karşıyaka vs Ayvalıkgücü v Turecko - 3. Lig. 
 Živý přenos a TV program.\nhttps://streamradar.soccer/cs/match/5620205/k
 ar-yaka-vs-ayval-kg-c/
URL;VALUE=URI:https://streamradar.soccer/cs/match/5620205/kar-yaka-vs-ayval
 -kg-c/
STATUS:CONFIRMED
END:VEVENT
END:VCALENDAR
