BEGIN:VCALENDAR
VERSION:2.0
PRODID:-//StreamRadar//Match Calendar//EN
CALSCALE:GREGORIAN
METHOD:PUBLISH
X-WR-CALNAME:Douanes Niamey vs Renaissance
X-WR-TIMEZONE:America/New_York
BEGIN:VEVENT
UID:match-5620161@streamradar.soccer
SUMMARY:Douanes Niamey vs Renaissance
DTSTAMP:20260424T152654Z
DTSTART;TZID=America/New_York:20260425T113000
DTEND;TZID=America/New_York:20260425T133000
LOCATION:Stade Général Seyni Kountché (Niamey)
DESCRIPTION:Kde sledovat Douanes Niamey vs Renaissance v Niger - Super Ligu
 e. Živý přenos a TV program.\nhttps://streamradar.soccer/cs/match/562016
 1/douanes-niamey-vs-renaissance/
URL;VALUE=URI:https://streamradar.soccer/cs/match/5620161/douanes-niamey-vs
 -renaissance/
STATUS:CONFIRMED
END:VEVENT
END:VCALENDAR
