BEGIN:VCALENDAR
VERSION:2.0
PRODID:-//StreamRadar//Match Calendar//EN
CALSCALE:GREGORIAN
METHOD:PUBLISH
X-WR-CALNAME:Ulaangom City vs Ulaanbaatar
X-WR-TIMEZONE:America/New_York
BEGIN:VEVENT
UID:match-5619669@streamradar.soccer
SUMMARY:Ulaangom City vs Ulaanbaatar
DTSTAMP:20260423T123329Z
DTSTART;TZID=America/New_York:20260510T030000
DTEND;TZID=America/New_York:20260510T050000
DESCRIPTION:Kde sledovat Ulaangom City vs Ulaanbaatar v Mongolsko - Premier
  League. Živý přenos a TV program.\nhttps://streamradar.soccer/cs/match/
 5619669/ulaangom-city-vs-ulaanbaatar/
URL;VALUE=URI:https://streamradar.soccer/cs/match/5619669/ulaangom-city-vs-
 ulaanbaatar/
STATUS:CONFIRMED
END:VEVENT
END:VCALENDAR
