BEGIN:VCALENDAR
VERSION:2.0
PRODID:-//StreamRadar//Match Calendar//EN
CALSCALE:GREGORIAN
METHOD:PUBLISH
X-WR-CALNAME:Recoleta vs Cobreloa
X-WR-TIMEZONE:America/New_York
BEGIN:VEVENT
UID:match-5619525@streamradar.soccer
SUMMARY:Recoleta vs Cobreloa
DTSTAMP:20260423T140551Z
DTSTART;TZID=America/New_York:20260521T150000
DTEND;TZID=America/New_York:20260521T170000
DESCRIPTION:Kde sledovat Recoleta vs Cobreloa v Chile - Primera B. Živý p
 řenos a TV program.\nhttps://streamradar.soccer/cs/match/5619525/recoleta-
 vs-cobreloa/
URL;VALUE=URI:https://streamradar.soccer/cs/match/5619525/recoleta-vs-cobre
 loa/
STATUS:CONFIRMED
END:VEVENT
END:VCALENDAR
