BEGIN:VCALENDAR
VERSION:2.0
PRODID:-//StreamRadar//Match Calendar//EN
CALSCALE:GREGORIAN
METHOD:PUBLISH
X-WR-CALNAME:Sparta Selemet vs Iskra Ribnita
X-WR-TIMEZONE:America/New_York
BEGIN:VEVENT
UID:match-5619491@streamradar.soccer
SUMMARY:Sparta Selemet vs Iskra Ribnita
DTSTAMP:20260423T140851Z
DTSTART;TZID=America/New_York:20260509T100000
DTEND;TZID=America/New_York:20260509T120000
LOCATION:Stadionul Suruceni
DESCRIPTION:Kde sledovat Sparta Selemet vs Iskra Ribnita v Divizia Naționa
 lă. Živý přenos a TV program.\nhttps://streamradar.soccer/cs/match/5619
 491/sparta-selemet-vs-iskra-ribnita/
URL;VALUE=URI:https://streamradar.soccer/cs/match/5619491/sparta-selemet-vs
 -iskra-ribnita/
STATUS:CONFIRMED
END:VEVENT
END:VCALENDAR
