BEGIN:VCALENDAR
VERSION:2.0
PRODID:-//StreamRadar//Match Calendar//EN
CALSCALE:GREGORIAN
METHOD:PUBLISH
X-WR-CALNAME:Al-Ahli vs Machida Zelvia
X-WR-TIMEZONE:America/New_York
BEGIN:VEVENT
UID:match-5619252@streamradar.soccer
SUMMARY:Al-Ahli vs Machida Zelvia
DTSTAMP:20260422T181633Z
DTSTART;TZID=America/New_York:20260425T121500
DTEND;TZID=America/New_York:20260425T141500
LOCATION:Prince Abdullah al-Faisal Stadium (Jeddah)
DESCRIPTION:Kde sledovat Al-Ahli vs Machida Zelvia v AFC Champions League E
 lite. Živý přenos a TV program.\nhttps://streamradar.soccer/cs/match/561
 9252/al-ahli-vs-machida-zelvia/
URL;VALUE=URI:https://streamradar.soccer/cs/match/5619252/al-ahli-vs-machid
 a-zelvia/
STATUS:CONFIRMED
END:VEVENT
END:VCALENDAR
