BEGIN:VCALENDAR
VERSION:2.0
PRODID:-//StreamRadar//Match Calendar//EN
CALSCALE:GREGORIAN
METHOD:PUBLISH
X-WR-CALNAME:Ellerton vs Paradise
X-WR-TIMEZONE:America/New_York
BEGIN:VEVENT
UID:match-5618948@streamradar.soccer
SUMMARY:Ellerton vs Paradise
DTSTAMP:20260425T162147Z
DTSTART;TZID=America/New_York:20260519T210000
DTEND;TZID=America/New_York:20260519T230000
DESCRIPTION:Kde sledovat Ellerton vs Paradise v Barbados Premier League. Ž
 ivý přenos a TV program.\nhttps://streamradar.soccer/cs/match/5618948/ell
 erton-vs-paradise/
URL;VALUE=URI:https://streamradar.soccer/cs/match/5618948/ellerton-vs-parad
 ise/
STATUS:CONFIRMED
END:VEVENT
END:VCALENDAR
