BEGIN:VCALENDAR
VERSION:2.0
PRODID:-//StreamRadar//Match Calendar//EN
CALSCALE:GREGORIAN
METHOD:PUBLISH
X-WR-CALNAME:Milan vs Internazionale
X-WR-TIMEZONE:America/New_York
BEGIN:VEVENT
UID:match-5618102@streamradar.soccer
SUMMARY:Milan vs Internazionale
DTSTAMP:20260423T140708Z
DTSTART;TZID=America/New_York:20260805T060000
DTEND;TZID=America/New_York:20260805T080000
LOCATION:Optus Stadium
DESCRIPTION:Kde sledovat Milan vs Internazionale v PÅ™Ã¡telskÃ© utkÃ¡nÃ­. Å
 ½ivÃ½ pÅ™enos a TV program.\nhttps://streamradar.soccer/cs/match/5618102/mi
 lan-vs-internazionale/
URL;VALUE=URI:https://streamradar.soccer/cs/match/5618102/milan-vs-internaz
 ionale/
STATUS:CONFIRMED
END:VEVENT
END:VCALENDAR
