BEGIN:VCALENDAR
VERSION:2.0
PRODID:-//StreamRadar//Match Calendar//EN
CALSCALE:GREGORIAN
METHOD:PUBLISH
X-WR-CALNAME:ABB vs Always Ready
X-WR-TIMEZONE:America/New_York
BEGIN:VEVENT
UID:match-5618021@streamradar.soccer
SUMMARY:ABB vs Always Ready
DTSTAMP:20260422T053128Z
DTSTART;TZID=America/New_York:20260530T150000
DTEND;TZID=America/New_York:20260530T170000
DESCRIPTION:Kde sledovat ABB vs Always Ready v Bolívie - Primera División
 . Živý přenos a TV program.\nhttps://streamradar.soccer/cs/match/5618021
 /abb-vs-always-ready/
URL;VALUE=URI:https://streamradar.soccer/cs/match/5618021/abb-vs-always-rea
 dy/
STATUS:CONFIRMED
END:VEVENT
END:VCALENDAR
