BEGIN:VCALENDAR
VERSION:2.0
PRODID:-//StreamRadar//Match Calendar//EN
CALSCALE:GREGORIAN
METHOD:PUBLISH
X-WR-CALNAME:Orange County SC vs El Paso Locomotive
X-WR-TIMEZONE:America/New_York
BEGIN:VEVENT
UID:match-5617705@streamradar.soccer
SUMMARY:Orange County SC vs El Paso Locomotive
DTSTAMP:20260425T004123Z
DTSTART;TZID=America/New_York:20260425T220000
DTEND;TZID=America/New_York:20260426T000000
LOCATION:Championship Soccer Stadium
DESCRIPTION:Kde sledovat Orange County SC vs El Paso Locomotive v Spojené 
 státy americké - USL Cup. Živý přenos a TV program.\nhttps://streamrad
 ar.soccer/cs/match/5617705/orange-county-sc-vs-el-paso-locomotive/
URL;VALUE=URI:https://streamradar.soccer/cs/match/5617705/orange-county-sc-
 vs-el-paso-locomotive/
STATUS:CONFIRMED
END:VEVENT
END:VCALENDAR
