BEGIN:VCALENDAR
VERSION:2.0
PRODID:-//StreamRadar//Match Calendar//EN
CALSCALE:GREGORIAN
METHOD:PUBLISH
X-WR-CALNAME:Guayaquil City vs Orense
X-WR-TIMEZONE:America/New_York
BEGIN:VEVENT
UID:match-5617389@streamradar.soccer
SUMMARY:Guayaquil City vs Orense
DTSTAMP:20260420T121034Z
DTSTART;TZID=America/New_York:20260518T200000
DTEND;TZID=America/New_York:20260518T220000
DESCRIPTION:Kde sledovat Guayaquil City vs Orense v EkvÃ¡dor - Primera A. Å
 ½ivÃ½ pÅ™enos a TV program.\nhttps://streamradar.soccer/cs/match/5617389/gu
 ayaquil-city-vs-orense/
URL;VALUE=URI:https://streamradar.soccer/cs/match/5617389/guayaquil-city-vs
 -orense/
STATUS:CONFIRMED
END:VEVENT
END:VCALENDAR
