BEGIN:VCALENDAR
VERSION:2.0
PRODID:-//StreamRadar//Match Calendar//EN
CALSCALE:GREGORIAN
METHOD:PUBLISH
X-WR-CALNAME:JS Hercules vs TP-47
X-WR-TIMEZONE:America/New_York
BEGIN:VEVENT
UID:match-5617012@streamradar.soccer
SUMMARY:JS Hercules vs TP-47
DTSTAMP:20260419T120026Z
DTSTART;TZID=America/New_York:20260509T110000
DTEND;TZID=America/New_York:20260509T130000
DESCRIPTION:Kde sledovat JS Hercules vs TP-47 v Finsko - Kakkonen. Živý p
 řenos a TV program.\nhttps://streamradar.soccer/cs/match/5617012/js-hercul
 es-vs-tp-47/
URL;VALUE=URI:https://streamradar.soccer/cs/match/5617012/js-hercules-vs-tp
 -47/
STATUS:CONFIRMED
END:VEVENT
END:VCALENDAR
