BEGIN:VCALENDAR
VERSION:2.0
PRODID:-//StreamRadar//Match Calendar//EN
CALSCALE:GREGORIAN
METHOD:PUBLISH
X-WR-CALNAME:JS Hercules vs Huima / Urho
X-WR-TIMEZONE:America/New_York
BEGIN:VEVENT
UID:match-5617004@streamradar.soccer
SUMMARY:JS Hercules vs Huima / Urho
DTSTAMP:20260419T122049Z
DTSTART;TZID=America/New_York:20260502T070000
DTEND;TZID=America/New_York:20260502T090000
DESCRIPTION:Kde sledovat JS Hercules vs Huima / Urho v Finsko - Kakkonen. Å
 ½ivÃ½ pÅ™enos a TV program.\nhttps://streamradar.soccer/cs/match/5617004/js
 -hercules-vs-huima-urho/
URL;VALUE=URI:https://streamradar.soccer/cs/match/5617004/js-hercules-vs-hu
 ima-urho/
STATUS:CONFIRMED
END:VEVENT
END:VCALENDAR
