BEGIN:VCALENDAR
VERSION:2.0
PRODID:-//StreamRadar//Match Calendar//EN
CALSCALE:GREGORIAN
METHOD:PUBLISH
X-WR-CALNAME:HJS Akatemia vs Honka
X-WR-TIMEZONE:America/New_York
BEGIN:VEVENT
UID:match-5616980@streamradar.soccer
SUMMARY:HJS Akatemia vs Honka
DTSTAMP:20260421T062215Z
DTSTART;TZID=America/New_York:20260502T100000
DTEND;TZID=America/New_York:20260502T120000
DESCRIPTION:Kde sledovat HJS Akatemia vs Honka v Finsko - Kakkonen. Živý 
 přenos a TV program.\nhttps://streamradar.soccer/cs/match/5616980/hjs-akat
 emia-vs-honka/
URL;VALUE=URI:https://streamradar.soccer/cs/match/5616980/hjs-akatemia-vs-h
 onka/
STATUS:CONFIRMED
END:VEVENT
END:VCALENDAR
