BEGIN:VCALENDAR
VERSION:2.0
PRODID:-//StreamRadar//Match Calendar//EN
CALSCALE:GREGORIAN
METHOD:PUBLISH
X-WR-CALNAME:Adama Kenema vs Suhul Shire
X-WR-TIMEZONE:America/New_York
BEGIN:VEVENT
UID:match-5616918@streamradar.soccer
SUMMARY:Adama Kenema vs Suhul Shire
DTSTAMP:20260421T092314Z
DTSTART;TZID=America/New_York:20260509T080000
DTEND;TZID=America/New_York:20260509T100000
DESCRIPTION:Kde sledovat Adama Kenema vs Suhul Shire v Etiopie - Premier Le
 ague. Živý přenos a TV program.\nhttps://streamradar.soccer/cs/match/561
 6918/adama-kenema-vs-suhul-shire/
URL;VALUE=URI:https://streamradar.soccer/cs/match/5616918/adama-kenema-vs-s
 uhul-shire/
STATUS:CONFIRMED
END:VEVENT
END:VCALENDAR
