BEGIN:VCALENDAR
VERSION:2.0
PRODID:-//StreamRadar//Match Calendar//EN
CALSCALE:GREGORIAN
METHOD:PUBLISH
X-WR-CALNAME:2 de Mayo vs GuaranÃ­
X-WR-TIMEZONE:America/New_York
BEGIN:VEVENT
UID:match-5616847@streamradar.soccer
SUMMARY:2 de Mayo vs GuaranÃ­
DTSTAMP:20260421T054723Z
DTSTART;TZID=America/New_York:20260426T164500
DTEND;TZID=America/New_York:20260426T184500
LOCATION:Estadio Monumental RÃ­o ParapitÃ­ (Pedro Juan Caballero)
DESCRIPTION:Kde sledovat 2 De Mayo vs GuaranÃ­ v Paraguay - Primera DivisiÃ
 ³n Paraguay. Å½ivÃ½ pÅ™enos a TV program.\nhttps://streamradar.soccer/cs/ma
 tch/5616847/2-de-mayo-vs-guarani/
URL;VALUE=URI:https://streamradar.soccer/cs/match/5616847/2-de-mayo-vs-guar
 ani/
STATUS:CONFIRMED
END:VEVENT
END:VCALENDAR
