BEGIN:VCALENDAR
VERSION:2.0
PRODID:-//StreamRadar//Match Calendar//EN
CALSCALE:GREGORIAN
METHOD:PUBLISH
X-WR-CALNAME:Sportivo Luqueño vs Sportivo Trinidense
X-WR-TIMEZONE:America/New_York
BEGIN:VEVENT
UID:match-5616845@streamradar.soccer
SUMMARY:Sportivo Luqueño vs Sportivo Trinidense
DTSTAMP:20260419T122834Z
DTSTART;TZID=America/New_York:20260425T164500
DTEND;TZID=America/New_York:20260425T184500
LOCATION:Estadio Feliciano Cáceres (Luque)
DESCRIPTION:Kde sledovat Sportivo Luqueño vs Sportivo Trinidense v Paragua
 y - Primera División Paraguay. Živý přenos a TV program.\nhttps://strea
 mradar.soccer/cs/match/5616845/sportivo-luqueno-vs-sportivo-trinidense/
URL;VALUE=URI:https://streamradar.soccer/cs/match/5616845/sportivo-luqueno-
 vs-sportivo-trinidense/
STATUS:CONFIRMED
END:VEVENT
END:VCALENDAR
