BEGIN:VCALENDAR
VERSION:2.0
PRODID:-//StreamRadar//Match Calendar//EN
CALSCALE:GREGORIAN
METHOD:PUBLISH
X-WR-CALNAME:Cherepovets vs Chertanovo
X-WR-TIMEZONE:America/New_York
BEGIN:VEVENT
UID:match-5616268@streamradar.soccer
SUMMARY:Cherepovets vs Chertanovo
DTSTAMP:20260421T062313Z
DTSTART;TZID=America/New_York:20260517T090000
DTEND;TZID=America/New_York:20260517T110000
DESCRIPTION:Kde sledovat Cherepovets vs Chertanovo v Rusko - FNL 2. Živý 
 přenos a TV program.\nhttps://streamradar.soccer/cs/match/5616268/cherepov
 ets-vs-chertanovo/
URL;VALUE=URI:https://streamradar.soccer/cs/match/5616268/cherepovets-vs-ch
 ertanovo/
STATUS:CONFIRMED
END:VEVENT
END:VCALENDAR
