BEGIN:VCALENDAR
VERSION:2.0
PRODID:-//StreamRadar//Match Calendar//EN
CALSCALE:GREGORIAN
METHOD:PUBLISH
X-WR-CALNAME:Saturn Ramenskoye vs Rotor Volgograd II
X-WR-TIMEZONE:America/New_York
BEGIN:VEVENT
UID:match-5615532@streamradar.soccer
SUMMARY:Saturn Ramenskoye vs Rotor Volgograd II
DTSTAMP:20260421T080809Z
DTSTART;TZID=America/New_York:20260516T090000
DTEND;TZID=America/New_York:20260516T110000
DESCRIPTION:Kde sledovat Saturn Ramenskoye vs Rotor Volgograd II v Rusko - 
 FNL 2. Živý přenos a TV program.\nhttps://streamradar.soccer/cs/match/56
 15532/saturn-ramenskoye-vs-rotor-volgograd-ii/
URL;VALUE=URI:https://streamradar.soccer/cs/match/5615532/saturn-ramenskoye
 -vs-rotor-volgograd-ii/
STATUS:CONFIRMED
END:VEVENT
END:VCALENDAR
