BEGIN:VCALENDAR
VERSION:2.0
PRODID:-//StreamRadar//Match Calendar//EN
CALSCALE:GREGORIAN
METHOD:PUBLISH
X-WR-CALNAME:Porto BA vs Vitória ES
X-WR-TIMEZONE:America/New_York
BEGIN:VEVENT
UID:match-5615410@streamradar.soccer
SUMMARY:Porto BA vs Vitória ES
DTSTAMP:20260421T093630Z
DTSTART;TZID=America/New_York:20260516T160000
DTEND;TZID=America/New_York:20260516T180000
DESCRIPTION:Kde sledovat Porto BA vs Vitória ES v Brazílie - Serie D. Ži
 vý přenos a TV program.\nhttps://streamradar.soccer/cs/match/5615410/port
 o-ba-vs-vitoria-es/
URL;VALUE=URI:https://streamradar.soccer/cs/match/5615410/porto-ba-vs-vitor
 ia-es/
STATUS:CONFIRMED
END:VEVENT
END:VCALENDAR
