BEGIN:VCALENDAR
VERSION:2.0
PRODID:-//StreamRadar//Match Calendar//EN
CALSCALE:GREGORIAN
METHOD:PUBLISH
X-WR-CALNAME:Moto Club MA vs IAPE
X-WR-TIMEZONE:America/New_York
BEGIN:VEVENT
UID:match-5615404@streamradar.soccer
SUMMARY:Moto Club MA vs IAPE
DTSTAMP:20260421T104503Z
DTSTART;TZID=America/New_York:20260516T160000
DTEND;TZID=America/New_York:20260516T180000
DESCRIPTION:Kde sledovat Moto Club MA vs IAPE v Brazílie - Serie D. Živý
  přenos a TV program.\nhttps://streamradar.soccer/cs/match/5615404/moto-cl
 ub-ma-vs-iape/
URL;VALUE=URI:https://streamradar.soccer/cs/match/5615404/moto-club-ma-vs-i
 ape/
STATUS:CONFIRMED
END:VEVENT
END:VCALENDAR
