BEGIN:VCALENDAR
VERSION:2.0
PRODID:-//StreamRadar//Match Calendar//EN
CALSCALE:GREGORIAN
METHOD:PUBLISH
X-WR-CALNAME:Renaissance vs Loubha Télimélé
X-WR-TIMEZONE:America/New_York
BEGIN:VEVENT
UID:match-5614807@streamradar.soccer
SUMMARY:Renaissance vs Loubha Télimélé
DTSTAMP:20260421T121349Z
DTSTART;TZID=America/New_York:20260417T120000
DTEND;TZID=America/New_York:20260417T140000
LOCATION:Stade Municipal de Coléah (Conakry)
DESCRIPTION:Kde sledovat Renaissance vs Loubha Télimélé v Guinea - Ligue
  1. Živý přenos a TV program.\nhttps://streamradar.soccer/cs/match/56148
 07/renaissance-vs-loubha-telimele/
URL;VALUE=URI:https://streamradar.soccer/cs/match/5614807/renaissance-vs-lo
 ubha-telimele/
STATUS:CONFIRMED
END:VEVENT
END:VCALENDAR
