BEGIN:VCALENDAR
VERSION:2.0
PRODID:-//StreamRadar//Match Calendar//EN
CALSCALE:GREGORIAN
METHOD:PUBLISH
X-WR-CALNAME:Adunatii-Copaceni vs Progresul Spartac
X-WR-TIMEZONE:America/New_York
BEGIN:VEVENT
UID:match-5614789@streamradar.soccer
SUMMARY:Adunatii-Copaceni vs Progresul Spartac
DTSTAMP:20260421T060115Z
DTSTART;TZID=America/New_York:20260515T110000
DTEND;TZID=America/New_York:20260515T130000
DESCRIPTION:Kde sledovat Adunatii-Copaceni vs Progresul Spartac v Rumunsko 
 - Liga III. Živý přenos a TV program.\nhttps://streamradar.soccer/cs/mat
 ch/5614789/adunatii-copaceni-vs-progresul-spartac/
URL;VALUE=URI:https://streamradar.soccer/cs/match/5614789/adunatii-copaceni
 -vs-progresul-spartac/
STATUS:CONFIRMED
END:VEVENT
END:VCALENDAR
