BEGIN:VCALENDAR
VERSION:2.0
PRODID:-//StreamRadar//Match Calendar//EN
CALSCALE:GREGORIAN
METHOD:PUBLISH
X-WR-CALNAME:SKA Khabarovsk II vs Zenit Penza
X-WR-TIMEZONE:America/New_York
BEGIN:VEVENT
UID:match-5614754@streamradar.soccer
SUMMARY:SKA Khabarovsk II vs Zenit Penza
DTSTAMP:20260421T060125Z
DTSTART;TZID=America/New_York:20260515T090000
DTEND;TZID=America/New_York:20260515T110000
DESCRIPTION:Kde sledovat SKA Khabarovsk II vs Zenit Penza v Rusko - FNL 2. 
 Živý přenos a TV program.\nhttps://streamradar.soccer/cs/match/5614754/s
 ka-khabarovsk-ii-vs-zenit-penza/
URL;VALUE=URI:https://streamradar.soccer/cs/match/5614754/ska-khabarovsk-ii
 -vs-zenit-penza/
STATUS:CONFIRMED
END:VEVENT
END:VCALENDAR
