BEGIN:VCALENDAR
VERSION:2.0
PRODID:-//StreamRadar//Match Calendar//EN
CALSCALE:GREGORIAN
METHOD:PUBLISH
X-WR-CALNAME:Project 51O vs Almaden
X-WR-TIMEZONE:America/New_York
BEGIN:VEVENT
UID:match-5614691@streamradar.soccer
SUMMARY:Project 51O vs Almaden
DTSTAMP:20260421T085418Z
DTSTART;TZID=America/New_York:20260513T200000
DTEND;TZID=America/New_York:20260513T220000
DESCRIPTION:Kde sledovat Project 51O vs Almaden v USL League Two. Å½ivÃ½ pÅ
 ™enos a TV program.\nhttps://streamradar.soccer/cs/match/5614691/project-51
 o-vs-almaden/
URL;VALUE=URI:https://streamradar.soccer/cs/match/5614691/project-51o-vs-al
 maden/
STATUS:CONFIRMED
END:VEVENT
END:VCALENDAR
