BEGIN:VCALENDAR
VERSION:2.0
PRODID:-//StreamRadar//Match Calendar//EN
CALSCALE:GREGORIAN
METHOD:PUBLISH
X-WR-CALNAME:Mashujaa vs Simba
X-WR-TIMEZONE:America/New_York
BEGIN:VEVENT
UID:match-5614653@streamradar.soccer
SUMMARY:Mashujaa vs Simba
DTSTAMP:20260421T091725Z
DTSTART;TZID=America/New_York:20260514T091500
DTEND;TZID=America/New_York:20260514T111500
LOCATION:Lake Tanganyika Stadium
DESCRIPTION:Kde sledovat Mashujaa vs Simba v Tanzanská Premier League. Ži
 vý přenos a TV program.\nhttps://streamradar.soccer/cs/match/5614653/mash
 ujaa-vs-simba/
URL;VALUE=URI:https://streamradar.soccer/cs/match/5614653/mashujaa-vs-simba
 /
STATUS:CONFIRMED
END:VEVENT
END:VCALENDAR
