BEGIN:VCALENDAR
VERSION:2.0
PRODID:-//StreamRadar//Match Calendar//EN
CALSCALE:GREGORIAN
METHOD:PUBLISH
X-WR-CALNAME:Odder vs Lyseng
X-WR-TIMEZONE:America/New_York
BEGIN:VEVENT
UID:match-5613199@streamradar.soccer
SUMMARY:Odder vs Lyseng
DTSTAMP:20260421T091611Z
DTSTART;TZID=America/New_York:20260508T124500
DTEND;TZID=America/New_York:20260508T144500
DESCRIPTION:Kde sledovat Odder vs Lyseng v DÃ¡nsko - 3. division. Å½ivÃ½ pÅ
 ™enos a TV program.\nhttps://streamradar.soccer/cs/match/5613199/odder-vs-l
 yseng/
URL;VALUE=URI:https://streamradar.soccer/cs/match/5613199/odder-vs-lyseng/
STATUS:CONFIRMED
END:VEVENT
END:VCALENDAR
