BEGIN:VCALENDAR
VERSION:2.0
PRODID:-//StreamRadar//Match Calendar//EN
CALSCALE:GREGORIAN
METHOD:PUBLISH
X-WR-CALNAME:Frem vs Odder
X-WR-TIMEZONE:America/New_York
BEGIN:VEVENT
UID:match-5613198@streamradar.soccer
SUMMARY:Frem vs Odder
DTSTAMP:20260421T062032Z
DTSTART;TZID=America/New_York:20260502T080000
DTEND;TZID=America/New_York:20260502T100000
LOCATION:Valby Idraetspark
DESCRIPTION:Kde sledovat Frem vs Odder v Dánsko - 3. division. Živý pře
 nos a TV program.\nhttps://streamradar.soccer/cs/match/5613198/frem-vs-odde
 r/
URL;VALUE=URI:https://streamradar.soccer/cs/match/5613198/frem-vs-odder/
STATUS:CONFIRMED
END:VEVENT
END:VCALENDAR
