BEGIN:VCALENDAR
VERSION:2.0
PRODID:-//StreamRadar//Match Calendar//EN
CALSCALE:GREGORIAN
METHOD:PUBLISH
X-WR-CALNAME:NykÃ¸bing vs BrÃ¸nshÃ¸j
X-WR-TIMEZONE:America/New_York
BEGIN:VEVENT
UID:match-5613186@streamradar.soccer
SUMMARY:NykÃ¸bing vs BrÃ¸nshÃ¸j
DTSTAMP:20260421T104254Z
DTSTART;TZID=America/New_York:20260503T080000
DTEND;TZID=America/New_York:20260503T100000
LOCATION:Lollands Bank Park
DESCRIPTION:Kde sledovat NykÃ¸bing vs BrÃ¸nshÃ¸j v DÃ¡nsko - 3. division. Å
 ½ivÃ½ pÅ™enos a TV program.\nhttps://streamradar.soccer/cs/match/5613186/ny
 kobing-vs-bronshoj/
URL;VALUE=URI:https://streamradar.soccer/cs/match/5613186/nykobing-vs-brons
 hoj/
STATUS:CONFIRMED
END:VEVENT
END:VCALENDAR
