BEGIN:VCALENDAR
VERSION:2.0
PRODID:-//StreamRadar//Match Calendar//EN
CALSCALE:GREGORIAN
METHOD:PUBLISH
X-WR-CALNAME:Afturelding vs NjardvÃ­k
X-WR-TIMEZONE:America/New_York
BEGIN:VEVENT
UID:match-5613074@streamradar.soccer
SUMMARY:Afturelding vs NjardvÃ­k
DTSTAMP:20260421T073223Z
DTSTART;TZID=America/New_York:20260513T151500
DTEND;TZID=America/New_York:20260513T171500
DESCRIPTION:Kde sledovat Afturelding vs NjardvÃ­k v MjÃ³lkurbikarinn. Å½ivÃ
 ½ pÅ™enos a TV program.\nhttps://streamradar.soccer/cs/match/5613074/afture
 lding-vs-njardvik/
URL;VALUE=URI:https://streamradar.soccer/cs/match/5613074/afturelding-vs-nj
 ardvik/
STATUS:CONFIRMED
END:VEVENT
END:VCALENDAR
