BEGIN:VCALENDAR
VERSION:2.0
PRODID:-//StreamRadar//Match Calendar//EN
CALSCALE:GREGORIAN
METHOD:PUBLISH
X-WR-CALNAME:Vojvodina vs Partizan
X-WR-TIMEZONE:America/New_York
BEGIN:VEVENT
UID:match-5612178@streamradar.soccer
SUMMARY:Vojvodina vs Partizan
DTSTAMP:20260420T120628Z
DTSTART;TZID=America/New_York:20260422T110000
DTEND;TZID=America/New_York:20260422T130000
LOCATION:Stadion KaraÄ‘orÄ‘e (Novi Sad)
DESCRIPTION:Kde sledovat Vojvodina vs Partizan v Srbsko - Super Liga. Å½ivÃ
 ½ pÅ™enos a TV program.\nhttps://streamradar.soccer/cs/match/5612178/vojvod
 ina-vs-partizan/
URL;VALUE=URI:https://streamradar.soccer/cs/match/5612178/vojvodina-vs-part
 izan/
STATUS:CONFIRMED
END:VEVENT
END:VCALENDAR
