BEGIN:VCALENDAR
VERSION:2.0
PRODID:-//StreamRadar//Match Calendar//EN
CALSCALE:GREGORIAN
METHOD:PUBLISH
X-WR-CALNAME:Irkutsk vs Luki-Energiya
X-WR-TIMEZONE:America/New_York
BEGIN:VEVENT
UID:match-5611577@streamradar.soccer
SUMMARY:Irkutsk vs Luki-Energiya
DTSTAMP:20260421T091936Z
DTSTART;TZID=America/New_York:20260510T090000
DTEND;TZID=America/New_York:20260510T110000
DESCRIPTION:Kde sledovat Irkutsk vs Luki-Energiya v Rusko - FNL 2. Živý p
 řenos a TV program.\nhttps://streamradar.soccer/cs/match/5611577/irkutsk-v
 s-luki-energiya/
URL;VALUE=URI:https://streamradar.soccer/cs/match/5611577/irkutsk-vs-luki-e
 nergiya/
STATUS:CONFIRMED
END:VEVENT
END:VCALENDAR
