BEGIN:VCALENDAR
VERSION:2.0
PRODID:-//StreamRadar//Match Calendar//EN
CALSCALE:GREGORIAN
METHOD:PUBLISH
X-WR-CALNAME:Spartak Nal'chik vs Druzhba
X-WR-TIMEZONE:America/New_York
BEGIN:VEVENT
UID:match-5611573@streamradar.soccer
SUMMARY:Spartak Nal'chik vs Druzhba
DTSTAMP:20260421T093629Z
DTSTART;TZID=America/New_York:20260510T090000
DTEND;TZID=America/New_York:20260510T110000
DESCRIPTION:Kde sledovat Spartak Nal'chik vs Druzhba v Rusko - FNL 2. Å½ivÃ
 ½ pÅ™enos a TV program.\nhttps://streamradar.soccer/cs/match/5611573/sparta
 k-nalchik-vs-druzhba/
URL;VALUE=URI:https://streamradar.soccer/cs/match/5611573/spartak-nalchik-v
 s-druzhba/
STATUS:CONFIRMED
END:VEVENT
END:VCALENDAR
