BEGIN:VCALENDAR
VERSION:2.0
PRODID:-//StreamRadar//Match Calendar//EN
CALSCALE:GREGORIAN
METHOD:PUBLISH
X-WR-CALNAME:Gor Mahia vs Police
X-WR-TIMEZONE:America/New_York
BEGIN:VEVENT
UID:match-5611458@streamradar.soccer
SUMMARY:Gor Mahia vs Police
DTSTAMP:20260421T025218Z
DTSTART;TZID=America/New_York:20260510T090000
DTEND;TZID=America/New_York:20260510T110000
DESCRIPTION:Kde sledovat Gor Mahia vs Police v Keňská Premier League. Ži
 vý přenos a TV program.\nhttps://streamradar.soccer/cs/match/5611458/gor-
 mahia-vs-police/
URL;VALUE=URI:https://streamradar.soccer/cs/match/5611458/gor-mahia-vs-poli
 ce/
STATUS:CONFIRMED
END:VEVENT
END:VCALENDAR
