BEGIN:VCALENDAR
VERSION:2.0
PRODID:-//StreamRadar//Match Calendar//EN
CALSCALE:GREGORIAN
METHOD:PUBLISH
X-WR-CALNAME:Wigry SuwaÅ‚ki vs Mlawa
X-WR-TIMEZONE:America/New_York
BEGIN:VEVENT
UID:match-5610845@streamradar.soccer
SUMMARY:Wigry SuwaÅ‚ki vs Mlawa
DTSTAMP:20260421T062220Z
DTSTART;TZID=America/New_York:20260509T130000
DTEND;TZID=America/New_York:20260509T150000
DESCRIPTION:Kde sledovat Wigry SuwaÅ‚ki vs Mlawa v Polsko - III liga. Å½ivÃ
 ½ pÅ™enos a TV program.\nhttps://streamradar.soccer/cs/match/5610845/wigry-
 suwalki-vs-mlawa/
URL;VALUE=URI:https://streamradar.soccer/cs/match/5610845/wigry-suwalki-vs-
 mlawa/
STATUS:CONFIRMED
END:VEVENT
END:VCALENDAR
