BEGIN:VCALENDAR
VERSION:2.0
PRODID:-//StreamRadar//Match Calendar//EN
CALSCALE:GREGORIAN
METHOD:PUBLISH
X-WR-CALNAME:Larissa vs Asteras Tripolis
X-WR-TIMEZONE:America/New_York
BEGIN:VEVENT
UID:match-5610652@streamradar.soccer
SUMMARY:Larissa vs Asteras Tripolis
DTSTAMP:20260421T062040Z
DTSTART;TZID=America/New_York:20260509T100000
DTEND;TZID=America/New_York:20260509T120000
LOCATION:AEL FC Arena
DESCRIPTION:Kde sledovat Larissa vs Asteras Tripolis v Řecko - Superliga. 
 Živý přenos a TV program.\nhttps://streamradar.soccer/cs/match/5610652/l
 arissa-vs-asteras-tripolis/
URL;VALUE=URI:https://streamradar.soccer/cs/match/5610652/larissa-vs-astera
 s-tripolis/
STATUS:CONFIRMED
END:VEVENT
END:VCALENDAR
